BEGIN:VCALENDAR
VERSION:2.0
PRODID:-//Hoover Met Complex - ECPv6.15.20//NONSGML v1.0//EN
CALSCALE:GREGORIAN
METHOD:PUBLISH
X-ORIGINAL-URL:https://hoovermetcomplex.com
X-WR-CALDESC:Events for Hoover Met Complex
REFRESH-INTERVAL;VALUE=DURATION:PT1H
X-Robots-Tag:noindex
X-PUBLISHED-TTL:PT1H
BEGIN:VTIMEZONE
TZID:America/Chicago
BEGIN:DAYLIGHT
TZOFFSETFROM:-0600
TZOFFSETTO:-0500
TZNAME:CDT
DTSTART:20230312T080000
END:DAYLIGHT
BEGIN:STANDARD
TZOFFSETFROM:-0500
TZOFFSETTO:-0600
TZNAME:CST
DTSTART:20231105T070000
END:STANDARD
BEGIN:DAYLIGHT
TZOFFSETFROM:-0600
TZOFFSETTO:-0500
TZNAME:CDT
DTSTART:20240310T080000
END:DAYLIGHT
BEGIN:STANDARD
TZOFFSETFROM:-0500
TZOFFSETTO:-0600
TZNAME:CST
DTSTART:20241103T070000
END:STANDARD
BEGIN:DAYLIGHT
TZOFFSETFROM:-0600
TZOFFSETTO:-0500
TZNAME:CDT
DTSTART:20250309T080000
END:DAYLIGHT
BEGIN:STANDARD
TZOFFSETFROM:-0500
TZOFFSETTO:-0600
TZNAME:CST
DTSTART:20251102T070000
END:STANDARD
END:VTIMEZONE
BEGIN:VEVENT
DTSTART;TZID=America/Chicago:20240116T060000
DTEND;TZID=America/Chicago:20240118T150000
DTSTAMP:20260423T060001
CREATED:20231228T165756Z
LAST-MODIFIED:20231228T165756Z
UID:10000371-1705384800-1705590000@hoovermetcomplex.com
SUMMARY:Pickleball 6am-3pm
DESCRIPTION:
URL:https://hoovermetcomplex.com/events/pickleball-6am-3pm-13/
LOCATION:AL
END:VEVENT
BEGIN:VEVENT
DTSTART;TZID=America/Chicago:20240116T060000
DTEND;TZID=America/Chicago:20240118T210000
DTSTAMP:20260423T060001
CREATED:20231228T165716Z
LAST-MODIFIED:20231228T165716Z
UID:10000370-1705384800-1705611600@hoovermetcomplex.com
SUMMARY:Walking Track 6am-9pm
DESCRIPTION:
URL:https://hoovermetcomplex.com/events/walking-track-6am-9pm-13/
LOCATION:AL
END:VEVENT
BEGIN:VEVENT
DTSTART;TZID=America/Chicago:20240118T080000
DTEND;TZID=America/Chicago:20240118T150000
DTSTAMP:20260423T060001
CREATED:20231228T165924Z
LAST-MODIFIED:20231228T165924Z
UID:10000374-1705564800-1705590000@hoovermetcomplex.com
SUMMARY:Open Gym 8am-3pm
DESCRIPTION:
URL:https://hoovermetcomplex.com/events/open-gym-8am-3pm-7/
LOCATION:AL
END:VEVENT
END:VCALENDAR