BEGIN:VCALENDAR
VERSION:2.0
PRODID:-//Hoover Met Complex - ECPv6.15.20//NONSGML v1.0//EN
CALSCALE:GREGORIAN
METHOD:PUBLISH
X-ORIGINAL-URL:https://hoovermetcomplex.com
X-WR-CALDESC:Events for Hoover Met Complex
REFRESH-INTERVAL;VALUE=DURATION:PT1H
X-Robots-Tag:noindex
X-PUBLISHED-TTL:PT1H
BEGIN:VTIMEZONE
TZID:America/Chicago
BEGIN:DAYLIGHT
TZOFFSETFROM:-0600
TZOFFSETTO:-0500
TZNAME:CDT
DTSTART:20230312T080000
END:DAYLIGHT
BEGIN:STANDARD
TZOFFSETFROM:-0500
TZOFFSETTO:-0600
TZNAME:CST
DTSTART:20231105T070000
END:STANDARD
BEGIN:DAYLIGHT
TZOFFSETFROM:-0600
TZOFFSETTO:-0500
TZNAME:CDT
DTSTART:20240310T080000
END:DAYLIGHT
BEGIN:STANDARD
TZOFFSETFROM:-0500
TZOFFSETTO:-0600
TZNAME:CST
DTSTART:20241103T070000
END:STANDARD
BEGIN:DAYLIGHT
TZOFFSETFROM:-0600
TZOFFSETTO:-0500
TZNAME:CDT
DTSTART:20250309T080000
END:DAYLIGHT
BEGIN:STANDARD
TZOFFSETFROM:-0500
TZOFFSETTO:-0600
TZNAME:CST
DTSTART:20251102T070000
END:STANDARD
END:VTIMEZONE
BEGIN:VEVENT
DTSTART;VALUE=DATE:20240129
DTEND;VALUE=DATE:20240201
DTSTAMP:20260419T170351
CREATED:20231228T170807Z
LAST-MODIFIED:20231228T170807Z
UID:10000387-1706486400-1706745599@hoovermetcomplex.com
SUMMARY:Pickleball CLOSED
DESCRIPTION:
URL:https://hoovermetcomplex.com/events/pickleball-closed-22/
LOCATION:AL
END:VEVENT
BEGIN:VEVENT
DTSTART;VALUE=DATE:20240129
DTEND;VALUE=DATE:20240201
DTSTAMP:20260419T170351
CREATED:20231228T170850Z
LAST-MODIFIED:20231228T170850Z
UID:10000389-1706486400-1706745599@hoovermetcomplex.com
SUMMARY:Gym CLOSED
DESCRIPTION:
URL:https://hoovermetcomplex.com/events/gym-closed-36/
LOCATION:AL
END:VEVENT
BEGIN:VEVENT
DTSTART;VALUE=DATE:20240130
DTEND;VALUE=DATE:20240201
DTSTAMP:20260419T170351
CREATED:20231228T170830Z
LAST-MODIFIED:20231228T170830Z
UID:10000388-1706572800-1706745599@hoovermetcomplex.com
SUMMARY:Walking Track CLOSED
DESCRIPTION:
URL:https://hoovermetcomplex.com/events/walking-track-closed-5/
LOCATION:AL
END:VEVENT
END:VCALENDAR