BEGIN:VCALENDAR
VERSION:2.0
PRODID:-//Hoover Met Complex - ECPv6.15.20//NONSGML v1.0//EN
CALSCALE:GREGORIAN
METHOD:PUBLISH
X-ORIGINAL-URL:https://hoovermetcomplex.com
X-WR-CALDESC:Events for Hoover Met Complex
REFRESH-INTERVAL;VALUE=DURATION:PT1H
X-Robots-Tag:noindex
X-PUBLISHED-TTL:PT1H
BEGIN:VTIMEZONE
TZID:America/Chicago
BEGIN:DAYLIGHT
TZOFFSETFROM:-0600
TZOFFSETTO:-0500
TZNAME:CDT
DTSTART:20240310T080000
END:DAYLIGHT
BEGIN:STANDARD
TZOFFSETFROM:-0500
TZOFFSETTO:-0600
TZNAME:CST
DTSTART:20241103T070000
END:STANDARD
BEGIN:DAYLIGHT
TZOFFSETFROM:-0600
TZOFFSETTO:-0500
TZNAME:CDT
DTSTART:20250309T080000
END:DAYLIGHT
BEGIN:STANDARD
TZOFFSETFROM:-0500
TZOFFSETTO:-0600
TZNAME:CST
DTSTART:20251102T070000
END:STANDARD
BEGIN:DAYLIGHT
TZOFFSETFROM:-0600
TZOFFSETTO:-0500
TZNAME:CDT
DTSTART:20260308T080000
END:DAYLIGHT
BEGIN:STANDARD
TZOFFSETFROM:-0500
TZOFFSETTO:-0600
TZNAME:CST
DTSTART:20261101T070000
END:STANDARD
END:VTIMEZONE
BEGIN:VEVENT
DTSTART;TZID=America/Chicago:20251231T080000
DTEND;TZID=America/Chicago:20251231T120000
DTSTAMP:20260423T172725
CREATED:20251201T015442Z
LAST-MODIFIED:20251217T181923Z
UID:10000669-1767168000-1767182400@hoovermetcomplex.com
SUMMARY:Walking Track
DESCRIPTION:Walking Track Available
URL:https://hoovermetcomplex.com/events/walking-track-dec-2025/2025-12-31/
LOCATION:The Finley Center
CATEGORIES:Indoor Recreation,Walking Track
END:VEVENT
BEGIN:VEVENT
DTSTART;TZID=America/Chicago:20251231T080000
DTEND;TZID=America/Chicago:20251231T120000
DTSTAMP:20260423T172725
CREATED:20251201T020210Z
LAST-MODIFIED:20251217T182011Z
UID:10000681-1767168000-1767182400@hoovermetcomplex.com
SUMMARY:Pickleball & Open Gym
DESCRIPTION:Pickleball & Open Gym Available
URL:https://hoovermetcomplex.com/events/pickleball-open-gym-8/2025-12-31/
LOCATION:The Finley Center
CATEGORIES:Indoor Recreation,Pickleball & Open Gym
END:VEVENT
BEGIN:VEVENT
DTSTART;TZID=America/Chicago:20251231T080000
DTEND;TZID=America/Chicago:20251231T170000
DTSTAMP:20260423T172725
CREATED:20251231T213429Z
LAST-MODIFIED:20260406T165300Z
UID:10000793-1767168000-1767200400@hoovermetcomplex.com
SUMMARY:Finley Awards Senior Nominees Breakfast
DESCRIPTION:March 4\, 2026 | Finley Center \nHonoring Senior Nominees\nThe Finley Awards Senior Nominees Breakfast will take place on March 4 at the Finley Center at the Hoover Met Complex. This special breakfast event recognizes senior nominees and provides an opportunity to celebrate their achievements in a formal and welcoming setting. \nGuests will gather for a seated breakfast as part of this invitation-based recognition event. The Finley Center offers a comfortable and professional environment for meaningful celebrations and milestone moments. \nEvent Overview\n\n\nEvent: Finley Awards Senior Nominees Breakfast \n\n\nDate: March 4\, 2026 \n\n\nLocation: Finley Center at the Hoover Met Complex \n\n\nEvent Type: Recognition breakfast \n\n\nAdditional details regarding invitations\, schedules\, and program information will be shared directly with invited guests. \nJoin us at the Hoover Met Complex as we host the Finley Awards Senior Nominees Breakfast\, a morning dedicated to recognition and celebration.
URL:https://hoovermetcomplex.com/events/finley-awards-breakfast-2026/
LOCATION:The Finley Center
CATEGORIES:External
END:VEVENT
END:VCALENDAR