BEGIN:VCALENDAR
VERSION:2.0
PRODID:-//Hoover Met Complex - ECPv6.15.20//NONSGML v1.0//EN
CALSCALE:GREGORIAN
METHOD:PUBLISH
X-ORIGINAL-URL:https://hoovermetcomplex.com
X-WR-CALDESC:Events for Hoover Met Complex
REFRESH-INTERVAL;VALUE=DURATION:PT1H
X-Robots-Tag:noindex
X-PUBLISHED-TTL:PT1H
BEGIN:VTIMEZONE
TZID:America/Chicago
BEGIN:DAYLIGHT
TZOFFSETFROM:-0600
TZOFFSETTO:-0500
TZNAME:CDT
DTSTART:20240310T080000
END:DAYLIGHT
BEGIN:STANDARD
TZOFFSETFROM:-0500
TZOFFSETTO:-0600
TZNAME:CST
DTSTART:20241103T070000
END:STANDARD
BEGIN:DAYLIGHT
TZOFFSETFROM:-0600
TZOFFSETTO:-0500
TZNAME:CDT
DTSTART:20250309T080000
END:DAYLIGHT
BEGIN:STANDARD
TZOFFSETFROM:-0500
TZOFFSETTO:-0600
TZNAME:CST
DTSTART:20251102T070000
END:STANDARD
BEGIN:DAYLIGHT
TZOFFSETFROM:-0600
TZOFFSETTO:-0500
TZNAME:CDT
DTSTART:20260308T080000
END:DAYLIGHT
BEGIN:STANDARD
TZOFFSETFROM:-0500
TZOFFSETTO:-0600
TZNAME:CST
DTSTART:20261101T070000
END:STANDARD
END:VTIMEZONE
BEGIN:VEVENT
DTSTART;TZID=America/Chicago:20250925T150000
DTEND;TZID=America/Chicago:20250925T200000
DTSTAMP:20260421T053240
CREATED:20250904T002941Z
LAST-MODIFIED:20250904T003247Z
UID:10000544-1758812400-1758830400@hoovermetcomplex.com
SUMMARY:Vintage Market Days
DESCRIPTION:Welcome to Vintage Market Days of\nBirmingham\n\nEvents\nVintage Market Days® is an upscale vintage and vintage-inspired indoor/outdoor market featuring original art\, antiques\, clothing\, jewelry\, handmade treasures\, home décor\, outdoor furnishings\, consumable yummies\, seasonal plantings and a little more. Vintage Market Days® events are so much more than a flea market. Each Vintage Market Days® event is a unique opportunity for vendors to display their talents and passions in creative venues. \n  \nEvent Hours & Admissions\nThursday\, September 25\, 2025\nEarly Buying Event\n3:00 pm to 8:00 pm \nFriday\, September 26\, 2025\nGeneral Admission\n9:00 am to 4:00 pm \nSaturday\, September 27\, 2025\nGeneral Admission\n9:00 am to 4:00 pm \nAdmission for children under 12 is free. Cash and credit card are accepted at the gate. Once purchased\, your ticket is good for re-entry into the event all weekend. \nLearn More
URL:https://hoovermetcomplex.com/events/vintage-market-days-2/2025-09-25/
LOCATION:The Finley Center
CATEGORIES:Community Events
ATTACH;FMTTYPE=image/jpeg:https://hoovermetcomplex.com/wp-content/uploads/2025/09/486046992_655378587187976_9035242141115240386_n-1.jpg
END:VEVENT
END:VCALENDAR