BEGIN:VCALENDAR
VERSION:2.0
PRODID:-//Hoover Met Complex - ECPv6.15.20//NONSGML v1.0//EN
CALSCALE:GREGORIAN
METHOD:PUBLISH
X-ORIGINAL-URL:https://hoovermetcomplex.com
X-WR-CALDESC:Events for Hoover Met Complex
REFRESH-INTERVAL;VALUE=DURATION:PT1H
X-Robots-Tag:noindex
X-PUBLISHED-TTL:PT1H
BEGIN:VTIMEZONE
TZID:America/Chicago
BEGIN:DAYLIGHT
TZOFFSETFROM:-0600
TZOFFSETTO:-0500
TZNAME:CDT
DTSTART:20250309T080000
END:DAYLIGHT
BEGIN:STANDARD
TZOFFSETFROM:-0500
TZOFFSETTO:-0600
TZNAME:CST
DTSTART:20251102T070000
END:STANDARD
BEGIN:DAYLIGHT
TZOFFSETFROM:-0600
TZOFFSETTO:-0500
TZNAME:CDT
DTSTART:20260308T080000
END:DAYLIGHT
BEGIN:STANDARD
TZOFFSETFROM:-0500
TZOFFSETTO:-0600
TZNAME:CST
DTSTART:20261101T070000
END:STANDARD
BEGIN:DAYLIGHT
TZOFFSETFROM:-0600
TZOFFSETTO:-0500
TZNAME:CDT
DTSTART:20270314T080000
END:DAYLIGHT
BEGIN:STANDARD
TZOFFSETFROM:-0500
TZOFFSETTO:-0600
TZNAME:CST
DTSTART:20271107T070000
END:STANDARD
END:VTIMEZONE
BEGIN:VEVENT
DTSTART;VALUE=DATE:20260313
DTEND;VALUE=DATE:20260316
DTSTAMP:20260422T171753
CREATED:20260225T184250Z
LAST-MODIFIED:20260225T184416Z
UID:10000798-1773360000-1773619199@hoovermetcomplex.com
SUMMARY:Battle of the Magic City Showcase
DESCRIPTION:Battle of the Magic City Showcase: Elite Youth Basketball\nThe Finley Center is excited to welcome back the Battle of the Magic City Showcase. This premier youth basketball tournament is one of the most anticipated events in the Southeast\, bringing together elite teams\, talented athletes\, and passionate fans for a weekend of high-intensity competition. \nKnown for showcasing top-tier recruitment talent\, this event offers a platform for young athletes to compete at the highest level in a state-of-the-art facility. \n2026 Battle of the Magic City Showcase Event Details\n\n\nLocation: The Finley Center at the Hoover Met Complex \n\n\nAddress: 1000 RV Way\, Hoover\, AL 35244 \n\n\nDates: Friday\, March 13 – Sunday\, March 15\, 2026 \n\n\nCompetition Level: Youth & Travel Basketball \n\n\nParking: On-site parking is available at the Hoover Met Complex for all attendees. \n\n\nWhat to Expect at the Magic City Showcase\nThe Battle of the Magic City Showcase has earned a reputation for its organization and the caliber of talent it attracts. With multiple courts running simultaneously inside the Finley Center’s 155\,000-square-foot sports hall\, fans can experience: \n\n\nFast-paced tournament play across various age groups. \n\n\nExposure for athletes looking to compete in front of regional scouts. \n\n\nA family-friendly atmosphere with full concessions and comfortable seating. \n\n\nThe Finley Center’s layout ensures that every spectator has a great view of the action\, making it the perfect home for a large-scale tournament of this magnitude. \nAttendee and Ticketing Information\nSpectator tickets are typically handled at the venue entrance during the event weekend. As one of the largest indoor sports facilities in the region\, the Finley Center offers climate-controlled comfort and professional amenities for players and families alike. \nFor tournament brackets\, team registration\, and specific game schedules\, please visit the official Battle of the Magic City website.
URL:https://hoovermetcomplex.com/events/battle-of-the-magic-city-showcase-2026/
LOCATION:The Finley Center
CATEGORIES:Basketball,External
ATTACH;FMTTYPE=image/png:https://hoovermetcomplex.com/wp-content/uploads/2026/02/Scott-Rohrer-Hoover-Invitational-Wrestling.png
END:VEVENT
END:VCALENDAR