BEGIN:VCALENDAR
VERSION:2.0
PRODID:-//Hoover Met Complex - ECPv6.15.20//NONSGML v1.0//EN
CALSCALE:GREGORIAN
METHOD:PUBLISH
X-ORIGINAL-URL:https://hoovermetcomplex.com
X-WR-CALDESC:Events for Hoover Met Complex
REFRESH-INTERVAL;VALUE=DURATION:PT1H
X-Robots-Tag:noindex
X-PUBLISHED-TTL:PT1H
BEGIN:VTIMEZONE
TZID:America/Chicago
BEGIN:DAYLIGHT
TZOFFSETFROM:-0600
TZOFFSETTO:-0500
TZNAME:CDT
DTSTART:20250309T080000
END:DAYLIGHT
BEGIN:STANDARD
TZOFFSETFROM:-0500
TZOFFSETTO:-0600
TZNAME:CST
DTSTART:20251102T070000
END:STANDARD
BEGIN:DAYLIGHT
TZOFFSETFROM:-0600
TZOFFSETTO:-0500
TZNAME:CDT
DTSTART:20260308T080000
END:DAYLIGHT
BEGIN:STANDARD
TZOFFSETFROM:-0500
TZOFFSETTO:-0600
TZNAME:CST
DTSTART:20261101T070000
END:STANDARD
BEGIN:DAYLIGHT
TZOFFSETFROM:-0600
TZOFFSETTO:-0500
TZNAME:CDT
DTSTART:20270314T080000
END:DAYLIGHT
BEGIN:STANDARD
TZOFFSETFROM:-0500
TZOFFSETTO:-0600
TZNAME:CST
DTSTART:20271107T070000
END:STANDARD
END:VTIMEZONE
BEGIN:VEVENT
DTSTART;VALUE=DATE:20260228
DTEND;VALUE=DATE:20260302
DTSTAMP:20260419T190112
CREATED:20251231T210600Z
LAST-MODIFIED:20251231T213303Z
UID:10000792-1772236800-1772409599@hoovermetcomplex.com
SUMMARY:Iron City Bash
DESCRIPTION:February 28 – March 1\, 2026 | Finley Center at the Hoover Met Complex \nRegional Volleyball Competition at the Finley Center\nThe Iron City Bash is coming to the Finley Center at the Hoover Met Complex from February 28 through March 1\, 2026. Presented by Top Court Events\, this regional volleyball tournament brings elite club teams from across the country to compete in a competitive early-season event.   \nThe Iron City Bash features multiple age divisions for girls volleyball\, making it a great weekend for teams to gain valuable match experience in a well-organized\, high-energy environment. Spectators\, coaches\, and family members are invited to enjoy the action at one of the region’s top sports venues.   \nEvent Highlights\n\n\nDates: February 28 – March 1\, 2026 \n\n\nLocation: Finley Center\, Hoover Met Complex\, Hoover\, Alabama \n\n\nSport: Girls Volleyball \n\n\nAge Divisions: 12U through 18U girls teams \n\n\nHosted By: Top Court Events   \n\n\nTeams will compete in pool play and bracket matches throughout the weekend. Full division listings\, match schedules\, and age group details will be released closer to the event start date by the tournament organizer.   \nSpectator Information\nSpectators are welcome at the Iron City Bash\, with weekend and day-pass ticketing options available. Children ages 6 and under may receive free admission. A livestream option is also available for fans who are unable to attend in person.   \nFor full event details\, division breakdowns\, hotel information\, and registration\, visit the official Iron City Bash event page.
URL:https://hoovermetcomplex.com/events/iron-city-bash-2026/
LOCATION:The Finley Center
CATEGORIES:Volleyball
ATTACH;FMTTYPE=image/png:https://hoovermetcomplex.com/wp-content/uploads/2025/12/Scott-Rohrer-Hoover-Invitational-Wrestling-6.png
END:VEVENT
BEGIN:VEVENT
DTSTART;VALUE=DATE:20260321
DTEND;VALUE=DATE:20260323
DTSTAMP:20260419T190112
CREATED:20260225T185544Z
LAST-MODIFIED:20260227T194236Z
UID:10000800-1774051200-1774223999@hoovermetcomplex.com
SUMMARY:Birmingham AAU Super Regional 2026
DESCRIPTION:AAU Super Regional Volleyball Tournament at the Finley Center\nThe Finley Center is thrilled to host the AAU Super Regional Volleyball Tournament\, one of the most competitive youth sports events in the region. This massive tournament brings together elite travel teams from across the Southeast to compete for top honors in a professional\, high-energy environment. \nWith the ability to host over 25 volleyball courts simultaneously\, the Finley Center provides the perfect stage for athletes to showcase their skills in front of recruiters\, coaches\, and fans. \n2026 AAU Super Regional Event Details\n\n\nLocation: The Finley Center at the Hoover Met Complex \n\n\nAddress: 1000 RV Way\, Hoover\, AL 35244 \n\n\nDates: Saturday\, March 21 – Sunday\, March 22\, 2026 \n\n\nTournament Type: AAU Super Regional (Girls Youth Volleyball) \n\n\nParking: On-site parking is available for all players\, coaches\, and spectators. \n\n\nWhat to Expect at the AAU Super Regional\nThe AAU Super Regional Volleyball Tournament is known for its high level of organization and talent. As a premier indoor sports destination\, the Finley Center ensures a top-tier experience for all participants. \n\n\nPro-Level Facilities: Enjoy climate-controlled courts\, digital scoreboards\, and professional officiating. \n\n\nOn-Site Amenities: The Finley Center offers full concessions and comfortable viewing areas for families and fans. \n\n\nThis tournament is a key stop for teams looking to earn bids to national championships\, making every match high-stakes and exciting to watch. \nFor specific tournament schedules\, wave times\, and team registration\, please visit the event’s registration page.
URL:https://hoovermetcomplex.com/events/aau-super-regional-volleyball-2026/
LOCATION:The Finley Center
CATEGORIES:External,Volleyball
ATTACH;FMTTYPE=image/png:https://hoovermetcomplex.com/wp-content/uploads/2026/02/Scott-Rohrer-Hoover-Invitational-Wrestling-1.png
END:VEVENT
END:VCALENDAR