BEGIN:VCALENDAR
VERSION:2.0
PRODID:-//Hoover Met Complex - ECPv6.15.20//NONSGML v1.0//EN
CALSCALE:GREGORIAN
METHOD:PUBLISH
X-ORIGINAL-URL:https://hoovermetcomplex.com
X-WR-CALDESC:Events for Hoover Met Complex
REFRESH-INTERVAL;VALUE=DURATION:PT1H
X-Robots-Tag:noindex
X-PUBLISHED-TTL:PT1H
BEGIN:VTIMEZONE
TZID:America/Chicago
BEGIN:DAYLIGHT
TZOFFSETFROM:-0600
TZOFFSETTO:-0500
TZNAME:CDT
DTSTART:20240310T080000
END:DAYLIGHT
BEGIN:STANDARD
TZOFFSETFROM:-0500
TZOFFSETTO:-0600
TZNAME:CST
DTSTART:20241103T070000
END:STANDARD
BEGIN:DAYLIGHT
TZOFFSETFROM:-0600
TZOFFSETTO:-0500
TZNAME:CDT
DTSTART:20250309T080000
END:DAYLIGHT
BEGIN:STANDARD
TZOFFSETFROM:-0500
TZOFFSETTO:-0600
TZNAME:CST
DTSTART:20251102T070000
END:STANDARD
BEGIN:DAYLIGHT
TZOFFSETFROM:-0600
TZOFFSETTO:-0500
TZNAME:CDT
DTSTART:20260308T080000
END:DAYLIGHT
BEGIN:STANDARD
TZOFFSETFROM:-0500
TZOFFSETTO:-0600
TZNAME:CST
DTSTART:20261101T070000
END:STANDARD
END:VTIMEZONE
BEGIN:VEVENT
DTSTART;VALUE=DATE:20251101
DTEND;VALUE=DATE:20251102
DTSTAMP:20260425T060854
CREATED:20250905T173710Z
LAST-MODIFIED:20251107T225146Z
UID:10000600-1761955200-1762041599@hoovermetcomplex.com
SUMMARY:Indoor Rec. Closed
DESCRIPTION:No Indoor Recreation: No Pickleball\, Open Gym or Walking Track
URL:https://hoovermetcomplex.com/events/indoor-rec-closed-3/2025-11-01/
LOCATION:The Finley Center
CATEGORIES:Indoor Recreation
END:VEVENT
BEGIN:VEVENT
DTSTART;VALUE=DATE:20251102
DTEND;VALUE=DATE:20251103
DTSTAMP:20260425T060854
CREATED:20250905T173710Z
LAST-MODIFIED:20251107T225146Z
UID:10000601-1762063200-1762117200@hoovermetcomplex.com
SUMMARY:Indoor Rec. Closed
DESCRIPTION:No Indoor Recreation: No Pickleball\, Open Gym or Walking Track
URL:https://hoovermetcomplex.com/events/indoor-rec-closed-3/2025-11-02/
LOCATION:The Finley Center
CATEGORIES:Indoor Recreation
END:VEVENT
BEGIN:VEVENT
DTSTART;TZID=America/Chicago:20251103T060000
DTEND;TZID=America/Chicago:20251103T150000
DTSTAMP:20260425T060854
CREATED:20250905T171018Z
LAST-MODIFIED:20251119T181335Z
UID:10000550-1762149600-1762182000@hoovermetcomplex.com
SUMMARY:Pickleball & Open Gym
DESCRIPTION:Pickleball/Open Gym from 6 AM – 3 PM
URL:https://hoovermetcomplex.com/events/pickleball-open-gym-5/2025-11-03/1/
LOCATION:The Finley Center
CATEGORIES:Pickleball & Open Gym
END:VEVENT
BEGIN:VEVENT
DTSTART;TZID=America/Chicago:20251103T060000
DTEND;TZID=America/Chicago:20251103T210000
DTSTAMP:20260425T060854
CREATED:20250905T171744Z
LAST-MODIFIED:20251104T181955Z
UID:10000575-1762149600-1762203600@hoovermetcomplex.com
SUMMARY:Walking Track
DESCRIPTION:Track Open 6 AM – 9 PM.\nPickleball/Open Gym from 6 AM – 3PM
URL:https://hoovermetcomplex.com/events/walking-track-6/2025-11-03/
LOCATION:The Finley Center
CATEGORIES:Indoor Recreation,Walking Track
END:VEVENT
BEGIN:VEVENT
DTSTART;TZID=America/Chicago:20251103T080000
DTEND;TZID=America/Chicago:20251103T170000
DTSTAMP:20260425T060854
CREATED:20250905T171018Z
LAST-MODIFIED:20251119T181335Z
UID:10000551-1762156800-1762189200@hoovermetcomplex.com
SUMMARY:Pickleball & Open Gym
DESCRIPTION:Pickleball/Open Gym from 6 AM – 3 PM
URL:https://hoovermetcomplex.com/events/pickleball-open-gym-5/2025-11-03/2/
LOCATION:The Finley Center
CATEGORIES:Pickleball & Open Gym
END:VEVENT
BEGIN:VEVENT
DTSTART;TZID=America/Chicago:20251104T140000
DTEND;TZID=America/Chicago:20251104T210000
DTSTAMP:20260425T060854
CREATED:20251104T182114Z
LAST-MODIFIED:20251104T182114Z
UID:10000632-1762264800-1762290000@hoovermetcomplex.com
SUMMARY:Walking Track Only
DESCRIPTION:Track Only
URL:https://hoovermetcomplex.com/events/walking-track-only-7/
LOCATION:The Finley Center
CATEGORIES:Indoor Recreation,Walking Track
END:VEVENT
BEGIN:VEVENT
DTSTART;TZID=America/Chicago:20251105T060000
DTEND;TZID=America/Chicago:20251105T150000
DTSTAMP:20260425T060854
CREATED:20250905T171018Z
LAST-MODIFIED:20251119T181335Z
UID:10000553-1762322400-1762354800@hoovermetcomplex.com
SUMMARY:Pickleball & Open Gym
DESCRIPTION:Pickleball/Open Gym from 6 AM – 3 PM
URL:https://hoovermetcomplex.com/events/pickleball-open-gym-5/2025-11-05/
LOCATION:The Finley Center
CATEGORIES:Pickleball & Open Gym
END:VEVENT
BEGIN:VEVENT
DTSTART;TZID=America/Chicago:20251105T060000
DTEND;TZID=America/Chicago:20251105T150000
DTSTAMP:20260425T060854
CREATED:20251104T181757Z
LAST-MODIFIED:20251104T181757Z
UID:10000552-1762322400-1762354800@hoovermetcomplex.com
SUMMARY:Pickleball & Open Gym
DESCRIPTION:Pickleball/Open Gym from 6 AM – 3 PM
URL:https://hoovermetcomplex.com/events/pickleball-open-gym-5-2/
LOCATION:The Finley Center
CATEGORIES:Pickleball & Open Gym
END:VEVENT
BEGIN:VEVENT
DTSTART;TZID=America/Chicago:20251105T060000
DTEND;TZID=America/Chicago:20251105T210000
DTSTAMP:20260425T060854
CREATED:20250905T171744Z
LAST-MODIFIED:20251104T181955Z
UID:10000577-1762322400-1762376400@hoovermetcomplex.com
SUMMARY:Walking Track
DESCRIPTION:Track Open 6 AM – 9 PM.\nPickleball/Open Gym from 6 AM – 3PM
URL:https://hoovermetcomplex.com/events/walking-track-6/2025-11-05/
LOCATION:The Finley Center
CATEGORIES:Indoor Recreation,Walking Track
END:VEVENT
BEGIN:VEVENT
DTSTART;TZID=America/Chicago:20251106T060000
DTEND;TZID=America/Chicago:20251106T210000
DTSTAMP:20260425T060854
CREATED:20250905T171125Z
LAST-MODIFIED:20250905T171302Z
UID:10000560-1762408800-1762462800@hoovermetcomplex.com
SUMMARY:Walking Track Only
DESCRIPTION:Track Only: No Pickleball/Open Gym. Track open 6 AM – 9 PM only.
URL:https://hoovermetcomplex.com/events/walking-track-only-4/2025-11-06/
LOCATION:The Finley Center
CATEGORIES:Indoor Recreation,Walking Track
END:VEVENT
BEGIN:VEVENT
DTSTART;TZID=America/Chicago:20251107T130000
DTEND;TZID=America/Chicago:20251107T190000
DTSTAMP:20260425T060854
CREATED:20250905T171210Z
LAST-MODIFIED:20250905T171210Z
UID:10000565-1762520400-1762542000@hoovermetcomplex.com
SUMMARY:Walking Track Only
DESCRIPTION:Track Only: No Pickleball/Open Gym. Track open 1 PM – 7 PM only.
URL:https://hoovermetcomplex.com/events/walking-track-only-5/
LOCATION:The Finley Center
CATEGORIES:Indoor Recreation,Walking Track
END:VEVENT
BEGIN:VEVENT
DTSTART;TZID=America/Chicago:20251108T080000
DTEND;TZID=America/Chicago:20251108T180000
DTSTAMP:20260425T060854
CREATED:20251107T225046Z
LAST-MODIFIED:20251107T225046Z
UID:10000639-1762588800-1762624800@hoovermetcomplex.com
SUMMARY:Walking Track Only
DESCRIPTION:Track Only: No Pickleball/Open Gym
URL:https://hoovermetcomplex.com/events/walking-track-only-8/
LOCATION:The Finley Center
CATEGORIES:Walking Track
END:VEVENT
BEGIN:VEVENT
DTSTART;VALUE=DATE:20251109
DTEND;VALUE=DATE:20251110
DTSTAMP:20260425T060854
CREATED:20250905T173710Z
LAST-MODIFIED:20251107T225146Z
UID:10000603-1762675200-1762707600@hoovermetcomplex.com
SUMMARY:Indoor Rec. Closed
DESCRIPTION:No Indoor Recreation: No Pickleball\, Open Gym or Walking Track
URL:https://hoovermetcomplex.com/events/indoor-rec-closed-3/2025-11-09/
LOCATION:The Finley Center
CATEGORIES:Indoor Recreation
END:VEVENT
BEGIN:VEVENT
DTSTART;TZID=America/Chicago:20251110T060000
DTEND;TZID=America/Chicago:20251110T150000
DTSTAMP:20260425T060854
CREATED:20250905T171018Z
LAST-MODIFIED:20251119T181335Z
UID:10000554-1762754400-1762786800@hoovermetcomplex.com
SUMMARY:Pickleball & Open Gym
DESCRIPTION:Pickleball/Open Gym from 6 AM – 3 PM
URL:https://hoovermetcomplex.com/events/pickleball-open-gym-5/2025-11-10/
LOCATION:The Finley Center
CATEGORIES:Pickleball & Open Gym
END:VEVENT
BEGIN:VEVENT
DTSTART;TZID=America/Chicago:20251110T060000
DTEND;TZID=America/Chicago:20251110T210000
DTSTAMP:20260425T060854
CREATED:20250905T171744Z
LAST-MODIFIED:20251104T181955Z
UID:10000578-1762754400-1762808400@hoovermetcomplex.com
SUMMARY:Walking Track
DESCRIPTION:Track Open 6 AM – 9 PM.\nPickleball/Open Gym from 6 AM – 3PM
URL:https://hoovermetcomplex.com/events/walking-track-6/2025-11-10/
LOCATION:The Finley Center
CATEGORIES:Indoor Recreation,Walking Track
END:VEVENT
BEGIN:VEVENT
DTSTART;TZID=America/Chicago:20251111T060000
DTEND;TZID=America/Chicago:20251111T150000
DTSTAMP:20260425T060854
CREATED:20250905T171018Z
LAST-MODIFIED:20251119T181335Z
UID:10000555-1762840800-1762873200@hoovermetcomplex.com
SUMMARY:Pickleball & Open Gym
DESCRIPTION:Pickleball/Open Gym from 6 AM – 3 PM
URL:https://hoovermetcomplex.com/events/pickleball-open-gym-5/2025-11-11/
LOCATION:The Finley Center
CATEGORIES:Pickleball & Open Gym
END:VEVENT
BEGIN:VEVENT
DTSTART;TZID=America/Chicago:20251111T060000
DTEND;TZID=America/Chicago:20251111T210000
DTSTAMP:20260425T060854
CREATED:20250905T171744Z
LAST-MODIFIED:20251104T181955Z
UID:10000579-1762840800-1762894800@hoovermetcomplex.com
SUMMARY:Walking Track
DESCRIPTION:Track Open 6 AM – 9 PM.\nPickleball/Open Gym from 6 AM – 3PM
URL:https://hoovermetcomplex.com/events/walking-track-6/2025-11-11/
LOCATION:The Finley Center
CATEGORIES:Indoor Recreation,Walking Track
END:VEVENT
BEGIN:VEVENT
DTSTART;TZID=America/Chicago:20251112T060000
DTEND;TZID=America/Chicago:20251112T150000
DTSTAMP:20260425T060854
CREATED:20250905T171018Z
LAST-MODIFIED:20251119T181335Z
UID:10000556-1762927200-1762959600@hoovermetcomplex.com
SUMMARY:Pickleball & Open Gym
DESCRIPTION:Pickleball/Open Gym from 6 AM – 3 PM
URL:https://hoovermetcomplex.com/events/pickleball-open-gym-5/2025-11-12/
LOCATION:The Finley Center
CATEGORIES:Pickleball & Open Gym
END:VEVENT
BEGIN:VEVENT
DTSTART;TZID=America/Chicago:20251112T060000
DTEND;TZID=America/Chicago:20251112T210000
DTSTAMP:20260425T060854
CREATED:20250905T171744Z
LAST-MODIFIED:20251104T181955Z
UID:10000580-1762927200-1762981200@hoovermetcomplex.com
SUMMARY:Walking Track
DESCRIPTION:Track Open 6 AM – 9 PM.\nPickleball/Open Gym from 6 AM – 3PM
URL:https://hoovermetcomplex.com/events/walking-track-6/2025-11-12/
LOCATION:The Finley Center
CATEGORIES:Indoor Recreation,Walking Track
END:VEVENT
BEGIN:VEVENT
DTSTART;TZID=America/Chicago:20251113T060000
DTEND;TZID=America/Chicago:20251113T210000
DTSTAMP:20260425T060854
CREATED:20250905T171125Z
LAST-MODIFIED:20250905T171302Z
UID:10000566-1763013600-1763067600@hoovermetcomplex.com
SUMMARY:Walking Track Only
DESCRIPTION:Track Only: No Pickleball/Open Gym. Track open 6 AM – 9 PM only.
URL:https://hoovermetcomplex.com/events/walking-track-only-4/2025-11-13/
LOCATION:The Finley Center
CATEGORIES:Indoor Recreation,Walking Track
END:VEVENT
BEGIN:VEVENT
DTSTART;TZID=America/Chicago:20251114T060000
DTEND;TZID=America/Chicago:20251114T190000
DTSTAMP:20260425T060854
CREATED:20250905T171334Z
LAST-MODIFIED:20250905T171334Z
UID:10000567-1763100000-1763146800@hoovermetcomplex.com
SUMMARY:Walking Track Only
DESCRIPTION:Track Only: No Pickleball/Open Gym. Track open 6 AM – 7 PM only.
URL:https://hoovermetcomplex.com/events/walking-track-only-6/
LOCATION:The Finley Center
CATEGORIES:Indoor Recreation,Walking Track
END:VEVENT
BEGIN:VEVENT
DTSTART;VALUE=DATE:20251115
DTEND;VALUE=DATE:20251116
DTSTAMP:20260425T060854
CREATED:20250905T173710Z
LAST-MODIFIED:20251107T225146Z
UID:10000604-1763193600-1763226000@hoovermetcomplex.com
SUMMARY:Indoor Rec. Closed
DESCRIPTION:No Indoor Recreation: No Pickleball\, Open Gym or Walking Track
URL:https://hoovermetcomplex.com/events/indoor-rec-closed-3/2025-11-15/
LOCATION:The Finley Center
CATEGORIES:Indoor Recreation
END:VEVENT
BEGIN:VEVENT
DTSTART;VALUE=DATE:20251116
DTEND;VALUE=DATE:20251117
DTSTAMP:20260425T060854
CREATED:20250905T173710Z
LAST-MODIFIED:20251107T225146Z
UID:10000605-1763280000-1763312400@hoovermetcomplex.com
SUMMARY:Indoor Rec. Closed
DESCRIPTION:No Indoor Recreation: No Pickleball\, Open Gym or Walking Track
URL:https://hoovermetcomplex.com/events/indoor-rec-closed-3/2025-11-16/
LOCATION:The Finley Center
CATEGORIES:Indoor Recreation
END:VEVENT
BEGIN:VEVENT
DTSTART;VALUE=DATE:20251117
DTEND;VALUE=DATE:20251118
DTSTAMP:20260425T060854
CREATED:20250905T173710Z
LAST-MODIFIED:20251107T225146Z
UID:10000606-1763366400-1763398800@hoovermetcomplex.com
SUMMARY:Indoor Rec. Closed
DESCRIPTION:No Indoor Recreation: No Pickleball\, Open Gym or Walking Track
URL:https://hoovermetcomplex.com/events/indoor-rec-closed-3/2025-11-17/
LOCATION:The Finley Center
CATEGORIES:Indoor Recreation
END:VEVENT
BEGIN:VEVENT
DTSTART;VALUE=DATE:20251118
DTEND;VALUE=DATE:20251119
DTSTAMP:20260425T060854
CREATED:20250905T173710Z
LAST-MODIFIED:20251107T225146Z
UID:10000607-1763452800-1763485200@hoovermetcomplex.com
SUMMARY:Indoor Rec. Closed
DESCRIPTION:No Indoor Recreation: No Pickleball\, Open Gym or Walking Track
URL:https://hoovermetcomplex.com/events/indoor-rec-closed-3/2025-11-18/
LOCATION:The Finley Center
CATEGORIES:Indoor Recreation
END:VEVENT
BEGIN:VEVENT
DTSTART;VALUE=DATE:20251119
DTEND;VALUE=DATE:20251120
DTSTAMP:20260425T060854
CREATED:20250905T173710Z
LAST-MODIFIED:20251107T225146Z
UID:10000608-1763539200-1763571600@hoovermetcomplex.com
SUMMARY:Indoor Rec. Closed
DESCRIPTION:No Indoor Recreation: No Pickleball\, Open Gym or Walking Track
URL:https://hoovermetcomplex.com/events/indoor-rec-closed-3/2025-11-19/
LOCATION:The Finley Center
CATEGORIES:Indoor Recreation
END:VEVENT
BEGIN:VEVENT
DTSTART;VALUE=DATE:20251120
DTEND;VALUE=DATE:20251121
DTSTAMP:20260425T060854
CREATED:20250905T173710Z
LAST-MODIFIED:20251107T225146Z
UID:10000609-1763625600-1763658000@hoovermetcomplex.com
SUMMARY:Indoor Rec. Closed
DESCRIPTION:No Indoor Recreation: No Pickleball\, Open Gym or Walking Track
URL:https://hoovermetcomplex.com/events/indoor-rec-closed-3/2025-11-20/
LOCATION:The Finley Center
CATEGORIES:Indoor Recreation
END:VEVENT
BEGIN:VEVENT
DTSTART;VALUE=DATE:20251121
DTEND;VALUE=DATE:20251122
DTSTAMP:20260425T060854
CREATED:20250905T173710Z
LAST-MODIFIED:20251107T225146Z
UID:10000610-1763712000-1763744400@hoovermetcomplex.com
SUMMARY:Indoor Rec. Closed
DESCRIPTION:No Indoor Recreation: No Pickleball\, Open Gym or Walking Track
URL:https://hoovermetcomplex.com/events/indoor-rec-closed-3/2025-11-21/
LOCATION:The Finley Center
CATEGORIES:Indoor Recreation
END:VEVENT
BEGIN:VEVENT
DTSTART;VALUE=DATE:20251122
DTEND;VALUE=DATE:20251123
DTSTAMP:20260425T060854
CREATED:20250905T173710Z
LAST-MODIFIED:20251107T225146Z
UID:10000611-1763798400-1763830800@hoovermetcomplex.com
SUMMARY:Indoor Rec. Closed
DESCRIPTION:No Indoor Recreation: No Pickleball\, Open Gym or Walking Track
URL:https://hoovermetcomplex.com/events/indoor-rec-closed-3/2025-11-22/
LOCATION:The Finley Center
CATEGORIES:Indoor Recreation
END:VEVENT
BEGIN:VEVENT
DTSTART;VALUE=DATE:20251123
DTEND;VALUE=DATE:20251124
DTSTAMP:20260425T060854
CREATED:20250905T173710Z
LAST-MODIFIED:20251107T225146Z
UID:10000612-1763884800-1763917200@hoovermetcomplex.com
SUMMARY:Indoor Rec. Closed
DESCRIPTION:No Indoor Recreation: No Pickleball\, Open Gym or Walking Track
URL:https://hoovermetcomplex.com/events/indoor-rec-closed-3/2025-11-23/
LOCATION:The Finley Center
CATEGORIES:Indoor Recreation
END:VEVENT
END:VCALENDAR