BEGIN:VCALENDAR
VERSION:2.0
PRODID:-//Hoover Met Complex - ECPv6.15.20//NONSGML v1.0//EN
CALSCALE:GREGORIAN
METHOD:PUBLISH
X-ORIGINAL-URL:https://hoovermetcomplex.com
X-WR-CALDESC:Events for Hoover Met Complex
REFRESH-INTERVAL;VALUE=DURATION:PT1H
X-Robots-Tag:noindex
X-PUBLISHED-TTL:PT1H
BEGIN:VTIMEZONE
TZID:America/Chicago
BEGIN:DAYLIGHT
TZOFFSETFROM:-0600
TZOFFSETTO:-0500
TZNAME:CDT
DTSTART:20250309T080000
END:DAYLIGHT
BEGIN:STANDARD
TZOFFSETFROM:-0500
TZOFFSETTO:-0600
TZNAME:CST
DTSTART:20251102T070000
END:STANDARD
BEGIN:DAYLIGHT
TZOFFSETFROM:-0600
TZOFFSETTO:-0500
TZNAME:CDT
DTSTART:20260308T080000
END:DAYLIGHT
BEGIN:STANDARD
TZOFFSETFROM:-0500
TZOFFSETTO:-0600
TZNAME:CST
DTSTART:20261101T070000
END:STANDARD
BEGIN:DAYLIGHT
TZOFFSETFROM:-0600
TZOFFSETTO:-0500
TZNAME:CDT
DTSTART:20270314T080000
END:DAYLIGHT
BEGIN:STANDARD
TZOFFSETFROM:-0500
TZOFFSETTO:-0600
TZNAME:CST
DTSTART:20271107T070000
END:STANDARD
END:VTIMEZONE
BEGIN:VEVENT
DTSTART;TZID=America/Chicago:20260316T060000
DTEND;TZID=America/Chicago:20260316T210000
DTSTAMP:20260424T081937
CREATED:20251217T185836Z
LAST-MODIFIED:20260227T193940Z
UID:10000829-1773640800-1773694800@hoovermetcomplex.com
SUMMARY:Walking Track
DESCRIPTION:Walking Track Available
URL:https://hoovermetcomplex.com/events/walking-track-10/2026-03-16/
LOCATION:The Finley Center
CATEGORIES:Indoor Recreation,Walking Track
END:VEVENT
BEGIN:VEVENT
DTSTART;TZID=America/Chicago:20260316T060000
DTEND;TZID=America/Chicago:20260316T150000
DTSTAMP:20260424T081937
CREATED:20251217T185641Z
LAST-MODIFIED:20260303T122848Z
UID:10000811-1773640800-1773673200@hoovermetcomplex.com
SUMMARY:Pickleball & Open Gym
DESCRIPTION:Pickleball & Open Gym Available
URL:https://hoovermetcomplex.com/events/pickleball-open-gym-11/2026-03-16/
LOCATION:The Finley Center
CATEGORIES:Pickleball & Open Gym
END:VEVENT
BEGIN:VEVENT
DTSTART;TZID=America/Chicago:20260313T060000
DTEND;TZID=America/Chicago:20260313T120000
DTSTAMP:20260424T081937
CREATED:20251217T185836Z
LAST-MODIFIED:20260227T193940Z
UID:10000828-1773381600-1773403200@hoovermetcomplex.com
SUMMARY:Walking Track
DESCRIPTION:Walking Track Available
URL:https://hoovermetcomplex.com/events/walking-track-10/2026-03-13/
LOCATION:The Finley Center
CATEGORIES:Indoor Recreation,Walking Track
END:VEVENT
BEGIN:VEVENT
DTSTART;TZID=America/Chicago:20260312T060000
DTEND;TZID=America/Chicago:20260312T210000
DTSTAMP:20260424T081937
CREATED:20251217T185836Z
LAST-MODIFIED:20260227T193940Z
UID:10000827-1773295200-1773349200@hoovermetcomplex.com
SUMMARY:Walking Track
DESCRIPTION:Walking Track Available
URL:https://hoovermetcomplex.com/events/walking-track-10/2026-03-12/
LOCATION:The Finley Center
CATEGORIES:Indoor Recreation,Walking Track
END:VEVENT
BEGIN:VEVENT
DTSTART;TZID=America/Chicago:20260312T060000
DTEND;TZID=America/Chicago:20260312T150000
DTSTAMP:20260424T081937
CREATED:20251217T185641Z
LAST-MODIFIED:20260303T122848Z
UID:10000810-1773295200-1773327600@hoovermetcomplex.com
SUMMARY:Pickleball & Open Gym
DESCRIPTION:Pickleball & Open Gym Available
URL:https://hoovermetcomplex.com/events/pickleball-open-gym-11/2026-03-12/
LOCATION:The Finley Center
CATEGORIES:Pickleball & Open Gym
END:VEVENT
BEGIN:VEVENT
DTSTART;TZID=America/Chicago:20260311T060000
DTEND;TZID=America/Chicago:20260311T210000
DTSTAMP:20260424T081937
CREATED:20251217T185836Z
LAST-MODIFIED:20260227T193940Z
UID:10000826-1773208800-1773262800@hoovermetcomplex.com
SUMMARY:Walking Track
DESCRIPTION:Walking Track Available
URL:https://hoovermetcomplex.com/events/walking-track-10/2026-03-11/
LOCATION:The Finley Center
CATEGORIES:Indoor Recreation,Walking Track
END:VEVENT
BEGIN:VEVENT
DTSTART;TZID=America/Chicago:20260310T060000
DTEND;TZID=America/Chicago:20260310T140000
DTSTAMP:20260424T081937
CREATED:20251217T185836Z
LAST-MODIFIED:20260227T193940Z
UID:10000825-1773122400-1773151200@hoovermetcomplex.com
SUMMARY:Walking Track
DESCRIPTION:Walking Track Available
URL:https://hoovermetcomplex.com/events/walking-track-10/2026-03-10/
LOCATION:The Finley Center
CATEGORIES:Indoor Recreation,Walking Track
END:VEVENT
BEGIN:VEVENT
DTSTART;TZID=America/Chicago:20260309T060000
DTEND;TZID=America/Chicago:20260309T210000
DTSTAMP:20260424T081937
CREATED:20251217T185836Z
LAST-MODIFIED:20260227T193940Z
UID:10000824-1773036000-1773090000@hoovermetcomplex.com
SUMMARY:Walking Track
DESCRIPTION:Walking Track Available
URL:https://hoovermetcomplex.com/events/walking-track-10/2026-03-09/
LOCATION:The Finley Center
CATEGORIES:Indoor Recreation,Walking Track
END:VEVENT
BEGIN:VEVENT
DTSTART;TZID=America/Chicago:20260305T060000
DTEND;TZID=America/Chicago:20260305T210000
DTSTAMP:20260424T081937
CREATED:20251217T185836Z
LAST-MODIFIED:20260227T193940Z
UID:10000823-1772690400-1772744400@hoovermetcomplex.com
SUMMARY:Walking Track
DESCRIPTION:Walking Track Available
URL:https://hoovermetcomplex.com/events/walking-track-10/2026-03-05/
LOCATION:The Finley Center
CATEGORIES:Indoor Recreation,Walking Track
END:VEVENT
BEGIN:VEVENT
DTSTART;TZID=America/Chicago:20260304T100000
DTEND;TZID=America/Chicago:20260304T210000
DTSTAMP:20260424T081937
CREATED:20251217T185836Z
LAST-MODIFIED:20260227T193940Z
UID:10000822-1772618400-1772658000@hoovermetcomplex.com
SUMMARY:Walking Track
DESCRIPTION:Walking Track Available
URL:https://hoovermetcomplex.com/events/walking-track-10/2026-03-04/
LOCATION:The Finley Center
CATEGORIES:Indoor Recreation,Walking Track
END:VEVENT
BEGIN:VEVENT
DTSTART;TZID=America/Chicago:20260304T100000
DTEND;TZID=America/Chicago:20260304T150000
DTSTAMP:20260424T081937
CREATED:20251217T185641Z
LAST-MODIFIED:20260303T122848Z
UID:10000844-1772618400-1772636400@hoovermetcomplex.com
SUMMARY:Pickleball & Open Gym
DESCRIPTION:Pickleball & Open Gym Available
URL:https://hoovermetcomplex.com/events/pickleball-open-gym-11/2026-03-04/
LOCATION:The Finley Center
CATEGORIES:Pickleball & Open Gym
END:VEVENT
BEGIN:VEVENT
DTSTART;TZID=America/Chicago:20260303T060000
DTEND;TZID=America/Chicago:20260303T210000
DTSTAMP:20260424T081937
CREATED:20251217T185836Z
LAST-MODIFIED:20260227T193940Z
UID:10000821-1772517600-1772571600@hoovermetcomplex.com
SUMMARY:Walking Track
DESCRIPTION:Walking Track Available
URL:https://hoovermetcomplex.com/events/walking-track-10/2026-03-03/
LOCATION:The Finley Center
CATEGORIES:Indoor Recreation,Walking Track
END:VEVENT
BEGIN:VEVENT
DTSTART;TZID=America/Chicago:20260302T060000
DTEND;TZID=America/Chicago:20260302T210000
DTSTAMP:20260424T081937
CREATED:20251217T185836Z
LAST-MODIFIED:20260227T193940Z
UID:10000820-1772431200-1772485200@hoovermetcomplex.com
SUMMARY:Walking Track
DESCRIPTION:Walking Track Available
URL:https://hoovermetcomplex.com/events/walking-track-10/2026-03-02/
LOCATION:The Finley Center
CATEGORIES:Indoor Recreation,Walking Track
END:VEVENT
BEGIN:VEVENT
DTSTART;TZID=America/Chicago:20260302T060000
DTEND;TZID=America/Chicago:20260302T150000
DTSTAMP:20260424T081937
CREATED:20251217T185641Z
LAST-MODIFIED:20260303T122848Z
UID:10000807-1772431200-1772463600@hoovermetcomplex.com
SUMMARY:Pickleball & Open Gym
DESCRIPTION:Pickleball & Open Gym Available
URL:https://hoovermetcomplex.com/events/pickleball-open-gym-11/2026-03-02/
LOCATION:The Finley Center
CATEGORIES:Pickleball & Open Gym
END:VEVENT
BEGIN:VEVENT
DTSTART;TZID=America/Chicago:20260227T080000
DTEND;TZID=America/Chicago:20260227T170000
DTSTAMP:20260424T081937
CREATED:20260227T194157Z
LAST-MODIFIED:20260406T165518Z
UID:10000841-1772179200-1772211600@hoovermetcomplex.com
SUMMARY:Pickleball & Open Gym
DESCRIPTION:Pickleball & Open Gym Available
URL:https://hoovermetcomplex.com/events/pickleball-open-gym-12/
LOCATION:Multi-Purpose Fields\, 1060 RV Trace\, Hoover\, AL\, 35244\, United States
CATEGORIES:Indoor Recreation,Pickleball & Open Gym
END:VEVENT
BEGIN:VEVENT
DTSTART;TZID=America/Chicago:20260227T060000
DTEND;TZID=America/Chicago:20260227T190000
DTSTAMP:20260424T081937
CREATED:20251217T185836Z
LAST-MODIFIED:20260227T193940Z
UID:10000775-1772172000-1772218800@hoovermetcomplex.com
SUMMARY:Walking Track
DESCRIPTION:Walking Track Available
URL:https://hoovermetcomplex.com/events/walking-track-10/2026-02-27/
LOCATION:The Finley Center
CATEGORIES:Indoor Recreation,Walking Track
END:VEVENT
BEGIN:VEVENT
DTSTART;TZID=America/Chicago:20260226T060000
DTEND;TZID=America/Chicago:20260226T210000
DTSTAMP:20260424T081937
CREATED:20251217T185836Z
LAST-MODIFIED:20260227T193940Z
UID:10000783-1772085600-1772139600@hoovermetcomplex.com
SUMMARY:Walking Track
DESCRIPTION:Walking Track Available
URL:https://hoovermetcomplex.com/events/walking-track-10/2026-02-26/
LOCATION:The Finley Center
CATEGORIES:Indoor Recreation,Walking Track
END:VEVENT
BEGIN:VEVENT
DTSTART;TZID=America/Chicago:20260226T060000
DTEND;TZID=America/Chicago:20260226T150000
DTSTAMP:20260424T081937
CREATED:20251217T185641Z
LAST-MODIFIED:20260303T122848Z
UID:10000765-1772085600-1772118000@hoovermetcomplex.com
SUMMARY:Pickleball & Open Gym
DESCRIPTION:Pickleball & Open Gym Available
URL:https://hoovermetcomplex.com/events/pickleball-open-gym-11/2026-02-26/
LOCATION:The Finley Center
CATEGORIES:Pickleball & Open Gym
END:VEVENT
BEGIN:VEVENT
DTSTART;TZID=America/Chicago:20260225T060000
DTEND;TZID=America/Chicago:20260225T210000
DTSTAMP:20260424T081937
CREATED:20251217T185836Z
LAST-MODIFIED:20260227T193940Z
UID:10000782-1771999200-1772053200@hoovermetcomplex.com
SUMMARY:Walking Track
DESCRIPTION:Walking Track Available
URL:https://hoovermetcomplex.com/events/walking-track-10/2026-02-25/
LOCATION:The Finley Center
CATEGORIES:Indoor Recreation,Walking Track
END:VEVENT
BEGIN:VEVENT
DTSTART;TZID=America/Chicago:20260225T060000
DTEND;TZID=America/Chicago:20260225T150000
DTSTAMP:20260424T081937
CREATED:20251217T185641Z
LAST-MODIFIED:20260303T122848Z
UID:10000764-1771999200-1772031600@hoovermetcomplex.com
SUMMARY:Pickleball & Open Gym
DESCRIPTION:Pickleball & Open Gym Available
URL:https://hoovermetcomplex.com/events/pickleball-open-gym-11/2026-02-25/
LOCATION:The Finley Center
CATEGORIES:Pickleball & Open Gym
END:VEVENT
BEGIN:VEVENT
DTSTART;TZID=America/Chicago:20260224T060000
DTEND;TZID=America/Chicago:20260224T210000
DTSTAMP:20260424T081937
CREATED:20251217T185836Z
LAST-MODIFIED:20260227T193940Z
UID:10000781-1771912800-1771966800@hoovermetcomplex.com
SUMMARY:Walking Track
DESCRIPTION:Walking Track Available
URL:https://hoovermetcomplex.com/events/walking-track-10/2026-02-24/
LOCATION:The Finley Center
CATEGORIES:Indoor Recreation,Walking Track
END:VEVENT
BEGIN:VEVENT
DTSTART;TZID=America/Chicago:20260224T060000
DTEND;TZID=America/Chicago:20260224T150000
DTSTAMP:20260424T081937
CREATED:20251217T185641Z
LAST-MODIFIED:20260303T122848Z
UID:10000763-1771912800-1771945200@hoovermetcomplex.com
SUMMARY:Pickleball & Open Gym
DESCRIPTION:Pickleball & Open Gym Available
URL:https://hoovermetcomplex.com/events/pickleball-open-gym-11/2026-02-24/
LOCATION:The Finley Center
CATEGORIES:Pickleball & Open Gym
END:VEVENT
BEGIN:VEVENT
DTSTART;TZID=America/Chicago:20260223T060000
DTEND;TZID=America/Chicago:20260223T210000
DTSTAMP:20260424T081937
CREATED:20251217T185836Z
LAST-MODIFIED:20260227T193940Z
UID:10000780-1771826400-1771880400@hoovermetcomplex.com
SUMMARY:Walking Track
DESCRIPTION:Walking Track Available
URL:https://hoovermetcomplex.com/events/walking-track-10/2026-02-23/
LOCATION:The Finley Center
CATEGORIES:Indoor Recreation,Walking Track
END:VEVENT
BEGIN:VEVENT
DTSTART;TZID=America/Chicago:20260223T060000
DTEND;TZID=America/Chicago:20260223T150000
DTSTAMP:20260424T081937
CREATED:20251217T185641Z
LAST-MODIFIED:20260303T122848Z
UID:10000762-1771826400-1771858800@hoovermetcomplex.com
SUMMARY:Pickleball & Open Gym
DESCRIPTION:Pickleball & Open Gym Available
URL:https://hoovermetcomplex.com/events/pickleball-open-gym-11/2026-02-23/
LOCATION:The Finley Center
CATEGORIES:Pickleball & Open Gym
END:VEVENT
BEGIN:VEVENT
DTSTART;TZID=America/Chicago:20260220T060000
DTEND;TZID=America/Chicago:20260220T190000
DTSTAMP:20260424T081937
CREATED:20251217T185836Z
LAST-MODIFIED:20260227T193940Z
UID:10000774-1771567200-1771614000@hoovermetcomplex.com
SUMMARY:Walking Track
DESCRIPTION:Walking Track Available
URL:https://hoovermetcomplex.com/events/walking-track-10/2026-02-20/
LOCATION:The Finley Center
CATEGORIES:Indoor Recreation,Walking Track
END:VEVENT
BEGIN:VEVENT
DTSTART;TZID=America/Chicago:20260219T060000
DTEND;TZID=America/Chicago:20260219T210000
DTSTAMP:20260424T081937
CREATED:20251217T185836Z
LAST-MODIFIED:20260227T193940Z
UID:10000779-1771480800-1771534800@hoovermetcomplex.com
SUMMARY:Walking Track
DESCRIPTION:Walking Track Available
URL:https://hoovermetcomplex.com/events/walking-track-10/2026-02-19/
LOCATION:The Finley Center
CATEGORIES:Indoor Recreation,Walking Track
END:VEVENT
BEGIN:VEVENT
DTSTART;TZID=America/Chicago:20260219T060000
DTEND;TZID=America/Chicago:20260219T150000
DTSTAMP:20260424T081937
CREATED:20251217T185641Z
LAST-MODIFIED:20260303T122848Z
UID:10000761-1771480800-1771513200@hoovermetcomplex.com
SUMMARY:Pickleball & Open Gym
DESCRIPTION:Pickleball & Open Gym Available
URL:https://hoovermetcomplex.com/events/pickleball-open-gym-11/2026-02-19/
LOCATION:The Finley Center
CATEGORIES:Pickleball & Open Gym
END:VEVENT
BEGIN:VEVENT
DTSTART;TZID=America/Chicago:20260218T060000
DTEND;TZID=America/Chicago:20260218T210000
DTSTAMP:20260424T081937
CREATED:20251217T185836Z
LAST-MODIFIED:20260227T193940Z
UID:10000778-1771394400-1771448400@hoovermetcomplex.com
SUMMARY:Walking Track
DESCRIPTION:Walking Track Available
URL:https://hoovermetcomplex.com/events/walking-track-10/2026-02-18/
LOCATION:The Finley Center
CATEGORIES:Indoor Recreation,Walking Track
END:VEVENT
BEGIN:VEVENT
DTSTART;TZID=America/Chicago:20260218T060000
DTEND;TZID=America/Chicago:20260218T150000
DTSTAMP:20260424T081937
CREATED:20251217T185641Z
LAST-MODIFIED:20260303T122848Z
UID:10000760-1771394400-1771426800@hoovermetcomplex.com
SUMMARY:Pickleball & Open Gym
DESCRIPTION:Pickleball & Open Gym Available
URL:https://hoovermetcomplex.com/events/pickleball-open-gym-11/2026-02-18/
LOCATION:The Finley Center
CATEGORIES:Pickleball & Open Gym
END:VEVENT
BEGIN:VEVENT
DTSTART;TZID=America/Chicago:20260217T060000
DTEND;TZID=America/Chicago:20260217T210000
DTSTAMP:20260424T081937
CREATED:20251217T185836Z
LAST-MODIFIED:20260227T193940Z
UID:10000777-1771308000-1771362000@hoovermetcomplex.com
SUMMARY:Walking Track
DESCRIPTION:Walking Track Available
URL:https://hoovermetcomplex.com/events/walking-track-10/2026-02-17/
LOCATION:The Finley Center
CATEGORIES:Indoor Recreation,Walking Track
END:VEVENT
END:VCALENDAR