BEGIN:VCALENDAR
VERSION:2.0
PRODID:-//Hoover Met Complex - ECPv6.15.20//NONSGML v1.0//EN
CALSCALE:GREGORIAN
METHOD:PUBLISH
X-ORIGINAL-URL:https://hoovermetcomplex.com
X-WR-CALDESC:Events for Hoover Met Complex
REFRESH-INTERVAL;VALUE=DURATION:PT1H
X-Robots-Tag:noindex
X-PUBLISHED-TTL:PT1H
BEGIN:VTIMEZONE
TZID:America/Chicago
BEGIN:DAYLIGHT
TZOFFSETFROM:-0600
TZOFFSETTO:-0500
TZNAME:CDT
DTSTART:20240310T080000
END:DAYLIGHT
BEGIN:STANDARD
TZOFFSETFROM:-0500
TZOFFSETTO:-0600
TZNAME:CST
DTSTART:20241103T070000
END:STANDARD
BEGIN:DAYLIGHT
TZOFFSETFROM:-0600
TZOFFSETTO:-0500
TZNAME:CDT
DTSTART:20250309T080000
END:DAYLIGHT
BEGIN:STANDARD
TZOFFSETFROM:-0500
TZOFFSETTO:-0600
TZNAME:CST
DTSTART:20251102T070000
END:STANDARD
BEGIN:DAYLIGHT
TZOFFSETFROM:-0600
TZOFFSETTO:-0500
TZNAME:CDT
DTSTART:20260308T080000
END:DAYLIGHT
BEGIN:STANDARD
TZOFFSETFROM:-0500
TZOFFSETTO:-0600
TZNAME:CST
DTSTART:20261101T070000
END:STANDARD
END:VTIMEZONE
BEGIN:VEVENT
DTSTART;TZID=America/Chicago:20251105T060000
DTEND;TZID=America/Chicago:20251105T150000
DTSTAMP:20260422T173629
CREATED:20250905T171018Z
LAST-MODIFIED:20251119T181335Z
UID:10000553-1762322400-1762354800@hoovermetcomplex.com
SUMMARY:Pickleball & Open Gym
DESCRIPTION:Pickleball/Open Gym from 6 AM – 3 PM
URL:https://hoovermetcomplex.com/events/pickleball-open-gym-5/2025-11-05/
LOCATION:The Finley Center
CATEGORIES:Pickleball & Open Gym
END:VEVENT
BEGIN:VEVENT
DTSTART;TZID=America/Chicago:20251103T080000
DTEND;TZID=America/Chicago:20251103T170000
DTSTAMP:20260422T173629
CREATED:20250905T171018Z
LAST-MODIFIED:20251119T181335Z
UID:10000551-1762156800-1762189200@hoovermetcomplex.com
SUMMARY:Pickleball & Open Gym
DESCRIPTION:Pickleball/Open Gym from 6 AM – 3 PM
URL:https://hoovermetcomplex.com/events/pickleball-open-gym-5/2025-11-03/2/
LOCATION:The Finley Center
CATEGORIES:Pickleball & Open Gym
END:VEVENT
BEGIN:VEVENT
DTSTART;TZID=America/Chicago:20251103T060000
DTEND;TZID=America/Chicago:20251103T150000
DTSTAMP:20260422T173629
CREATED:20250905T171018Z
LAST-MODIFIED:20251119T181335Z
UID:10000550-1762149600-1762182000@hoovermetcomplex.com
SUMMARY:Pickleball & Open Gym
DESCRIPTION:Pickleball/Open Gym from 6 AM – 3 PM
URL:https://hoovermetcomplex.com/events/pickleball-open-gym-5/2025-11-03/1/
LOCATION:The Finley Center
CATEGORIES:Pickleball & Open Gym
END:VEVENT
BEGIN:VEVENT
DTSTART;TZID=America/Chicago:20251030T060000
DTEND;TZID=America/Chicago:20251030T150000
DTSTAMP:20260422T173629
CREATED:20250903T185719Z
LAST-MODIFIED:20250922T141449Z
UID:10000541-1761804000-1761836400@hoovermetcomplex.com
SUMMARY:Pickleball & Open Gym
DESCRIPTION:Pickleball/Open Gym from 6 AM – 3PM
URL:https://hoovermetcomplex.com/events/pickleball-open-gym-2/2025-10-30/
LOCATION:The Finley Center
CATEGORIES:Pickleball & Open Gym
END:VEVENT
BEGIN:VEVENT
DTSTART;TZID=America/Chicago:20251029T060000
DTEND;TZID=America/Chicago:20251029T150000
DTSTAMP:20260422T173629
CREATED:20250903T185719Z
LAST-MODIFIED:20250922T141449Z
UID:10000507-1761717600-1761750000@hoovermetcomplex.com
SUMMARY:Pickleball & Open Gym
DESCRIPTION:Pickleball/Open Gym from 6 AM – 3PM
URL:https://hoovermetcomplex.com/events/pickleball-open-gym-2/2025-10-29/
LOCATION:The Finley Center
CATEGORIES:Pickleball & Open Gym
END:VEVENT
BEGIN:VEVENT
DTSTART;TZID=America/Chicago:20251028T060000
DTEND;TZID=America/Chicago:20251028T150000
DTSTAMP:20260422T173629
CREATED:20250903T185719Z
LAST-MODIFIED:20250922T141449Z
UID:10000506-1761631200-1761663600@hoovermetcomplex.com
SUMMARY:Pickleball & Open Gym
DESCRIPTION:Pickleball/Open Gym from 6 AM – 3PM
URL:https://hoovermetcomplex.com/events/pickleball-open-gym-2/2025-10-28/
LOCATION:The Finley Center
CATEGORIES:Pickleball & Open Gym
END:VEVENT
BEGIN:VEVENT
DTSTART;TZID=America/Chicago:20251027T060000
DTEND;TZID=America/Chicago:20251027T150000
DTSTAMP:20260422T173629
CREATED:20250903T185719Z
LAST-MODIFIED:20250922T141449Z
UID:10000505-1761544800-1761577200@hoovermetcomplex.com
SUMMARY:Pickleball & Open Gym
DESCRIPTION:Pickleball/Open Gym from 6 AM – 3PM
URL:https://hoovermetcomplex.com/events/pickleball-open-gym-2/2025-10-27/
LOCATION:The Finley Center
CATEGORIES:Pickleball & Open Gym
END:VEVENT
BEGIN:VEVENT
DTSTART;TZID=America/Chicago:20251018T080000
DTEND;TZID=America/Chicago:20251018T180000
DTSTAMP:20260422T173629
CREATED:20250908T204430Z
LAST-MODIFIED:20250908T204548Z
UID:10000626-1760774400-1760810400@hoovermetcomplex.com
SUMMARY:Pickleball & Open Gym
DESCRIPTION:Pickleball/Open Gym from 8 AM – 6PM
URL:https://hoovermetcomplex.com/events/pickleball-open-gym-6/2025-10-18/
LOCATION:The Finley Center
CATEGORIES:Pickleball & Open Gym
END:VEVENT
BEGIN:VEVENT
DTSTART;TZID=America/Chicago:20251018T080000
DTEND;TZID=America/Chicago:20251018T180000
DTSTAMP:20260422T173629
CREATED:20250903T225811Z
LAST-MODIFIED:20250903T230418Z
UID:10000538-1760774400-1760810400@hoovermetcomplex.com
SUMMARY:Pickleball & Open Gym
DESCRIPTION:Pickleball/Open Gym from 8 AM – 6PM
URL:https://hoovermetcomplex.com/events/pickleball-open-gym-4/
LOCATION:The Finley Center
CATEGORIES:Pickleball & Open Gym
END:VEVENT
BEGIN:VEVENT
DTSTART;TZID=America/Chicago:20251017T060000
DTEND;TZID=America/Chicago:20251017T190000
DTSTAMP:20260422T173629
CREATED:20250903T225719Z
LAST-MODIFIED:20250903T225719Z
UID:10000528-1760680800-1760727600@hoovermetcomplex.com
SUMMARY:Pickleball & Open Gym
DESCRIPTION:Pickleball/Open Gym from 6 AM – 7 PM
URL:https://hoovermetcomplex.com/events/pickleball-open-gym-3/
LOCATION:The Finley Center
CATEGORIES:Pickleball & Open Gym
END:VEVENT
BEGIN:VEVENT
DTSTART;TZID=America/Chicago:20251016T060000
DTEND;TZID=America/Chicago:20251016T150000
DTSTAMP:20260422T173629
CREATED:20250903T185719Z
LAST-MODIFIED:20250922T141449Z
UID:10000504-1760594400-1760626800@hoovermetcomplex.com
SUMMARY:Pickleball & Open Gym
DESCRIPTION:Pickleball/Open Gym from 6 AM – 3PM
URL:https://hoovermetcomplex.com/events/pickleball-open-gym-2/2025-10-16/
LOCATION:The Finley Center
CATEGORIES:Pickleball & Open Gym
END:VEVENT
BEGIN:VEVENT
DTSTART;TZID=America/Chicago:20251015T060000
DTEND;TZID=America/Chicago:20251015T150000
DTSTAMP:20260422T173629
CREATED:20250903T185719Z
LAST-MODIFIED:20250922T141449Z
UID:10000503-1760508000-1760540400@hoovermetcomplex.com
SUMMARY:Pickleball & Open Gym
DESCRIPTION:Pickleball/Open Gym from 6 AM – 3PM
URL:https://hoovermetcomplex.com/events/pickleball-open-gym-2/2025-10-15/
LOCATION:The Finley Center
CATEGORIES:Pickleball & Open Gym
END:VEVENT
BEGIN:VEVENT
DTSTART;TZID=America/Chicago:20251014T060000
DTEND;TZID=America/Chicago:20251014T150000
DTSTAMP:20260422T173629
CREATED:20250903T185719Z
LAST-MODIFIED:20250922T141449Z
UID:10000502-1760421600-1760454000@hoovermetcomplex.com
SUMMARY:Pickleball & Open Gym
DESCRIPTION:Pickleball/Open Gym from 6 AM – 3PM
URL:https://hoovermetcomplex.com/events/pickleball-open-gym-2/2025-10-14/
LOCATION:The Finley Center
CATEGORIES:Pickleball & Open Gym
END:VEVENT
BEGIN:VEVENT
DTSTART;TZID=America/Chicago:20251008T060000
DTEND;TZID=America/Chicago:20251008T150000
DTSTAMP:20260422T173629
CREATED:20250903T185719Z
LAST-MODIFIED:20250922T141449Z
UID:10000501-1759903200-1759935600@hoovermetcomplex.com
SUMMARY:Pickleball & Open Gym
DESCRIPTION:Pickleball/Open Gym from 6 AM – 3PM
URL:https://hoovermetcomplex.com/events/pickleball-open-gym-2/2025-10-08/
LOCATION:The Finley Center
CATEGORIES:Pickleball & Open Gym
END:VEVENT
BEGIN:VEVENT
DTSTART;TZID=America/Chicago:20251007T060000
DTEND;TZID=America/Chicago:20251007T150000
DTSTAMP:20260422T173629
CREATED:20250903T185719Z
LAST-MODIFIED:20250922T141449Z
UID:10000500-1759816800-1759849200@hoovermetcomplex.com
SUMMARY:Pickleball & Open Gym
DESCRIPTION:Pickleball/Open Gym from 6 AM – 3PM
URL:https://hoovermetcomplex.com/events/pickleball-open-gym-2/2025-10-07/
LOCATION:The Finley Center
CATEGORIES:Pickleball & Open Gym
END:VEVENT
BEGIN:VEVENT
DTSTART;TZID=America/Chicago:20251002T060000
DTEND;TZID=America/Chicago:20251002T150000
DTSTAMP:20260422T173629
CREATED:20250903T185719Z
LAST-MODIFIED:20250922T141449Z
UID:10000499-1759384800-1759417200@hoovermetcomplex.com
SUMMARY:Pickleball & Open Gym
DESCRIPTION:Pickleball/Open Gym from 6 AM – 3PM
URL:https://hoovermetcomplex.com/events/pickleball-open-gym-2/2025-10-02/
LOCATION:The Finley Center
CATEGORIES:Pickleball & Open Gym
END:VEVENT
BEGIN:VEVENT
DTSTART;TZID=America/Chicago:20251001T060000
DTEND;TZID=America/Chicago:20251001T150000
DTSTAMP:20260422T173629
CREATED:20250903T185719Z
LAST-MODIFIED:20250922T141449Z
UID:10000498-1759298400-1759330800@hoovermetcomplex.com
SUMMARY:Pickleball & Open Gym
DESCRIPTION:Pickleball/Open Gym from 6 AM – 3PM
URL:https://hoovermetcomplex.com/events/pickleball-open-gym-2/2025-10-01/
LOCATION:The Finley Center
CATEGORIES:Pickleball & Open Gym
END:VEVENT
BEGIN:VEVENT
DTSTART;TZID=America/Chicago:20250930T060000
DTEND;TZID=America/Chicago:20250930T150000
DTSTAMP:20260422T173629
CREATED:20250903T183105Z
LAST-MODIFIED:20250922T141406Z
UID:10000417-1759212000-1759244400@hoovermetcomplex.com
SUMMARY:Pickleball & Open Gym
DESCRIPTION:Track Open 6 AM – 9 PM.\nPickleball/Open Gym from 6 AM – 3PM
URL:https://hoovermetcomplex.com/events/pickleball-open-gym/2025-09-30/
LOCATION:The Finley Center
CATEGORIES:Pickleball & Open Gym
END:VEVENT
BEGIN:VEVENT
DTSTART;TZID=America/Chicago:20250929T060000
DTEND;TZID=America/Chicago:20250929T150000
DTSTAMP:20260422T173629
CREATED:20250903T183105Z
LAST-MODIFIED:20250922T141406Z
UID:10000416-1759125600-1759158000@hoovermetcomplex.com
SUMMARY:Pickleball & Open Gym
DESCRIPTION:Track Open 6 AM – 9 PM.\nPickleball/Open Gym from 6 AM – 3PM
URL:https://hoovermetcomplex.com/events/pickleball-open-gym/2025-09-29/
LOCATION:The Finley Center
CATEGORIES:Pickleball & Open Gym
END:VEVENT
BEGIN:VEVENT
DTSTART;TZID=America/Chicago:20250917T060000
DTEND;TZID=America/Chicago:20250917T150000
DTSTAMP:20260422T173629
CREATED:20250903T183105Z
LAST-MODIFIED:20250922T141406Z
UID:10000415-1758088800-1758121200@hoovermetcomplex.com
SUMMARY:Pickleball & Open Gym
DESCRIPTION:Track Open 6 AM – 9 PM.\nPickleball/Open Gym from 6 AM – 3PM
URL:https://hoovermetcomplex.com/events/pickleball-open-gym/2025-09-17/
LOCATION:The Finley Center
CATEGORIES:Pickleball & Open Gym
END:VEVENT
BEGIN:VEVENT
DTSTART;TZID=America/Chicago:20250916T060000
DTEND;TZID=America/Chicago:20250916T150000
DTSTAMP:20260422T173629
CREATED:20250903T183105Z
LAST-MODIFIED:20250922T141406Z
UID:10000414-1758002400-1758034800@hoovermetcomplex.com
SUMMARY:Pickleball & Open Gym
DESCRIPTION:Track Open 6 AM – 9 PM.\nPickleball/Open Gym from 6 AM – 3PM
URL:https://hoovermetcomplex.com/events/pickleball-open-gym/2025-09-16/
LOCATION:The Finley Center
CATEGORIES:Pickleball & Open Gym
END:VEVENT
BEGIN:VEVENT
DTSTART;TZID=America/Chicago:20250915T060000
DTEND;TZID=America/Chicago:20250915T150000
DTSTAMP:20260422T173629
CREATED:20250903T183105Z
LAST-MODIFIED:20250922T141406Z
UID:10000413-1757916000-1757948400@hoovermetcomplex.com
SUMMARY:Pickleball & Open Gym
DESCRIPTION:Track Open 6 AM – 9 PM.\nPickleball/Open Gym from 6 AM – 3PM
URL:https://hoovermetcomplex.com/events/pickleball-open-gym/2025-09-15/
LOCATION:The Finley Center
CATEGORIES:Pickleball & Open Gym
END:VEVENT
BEGIN:VEVENT
DTSTART;TZID=America/Chicago:20250911T060000
DTEND;TZID=America/Chicago:20250911T150000
DTSTAMP:20260422T173629
CREATED:20250903T183105Z
LAST-MODIFIED:20250922T141406Z
UID:10000412-1757570400-1757602800@hoovermetcomplex.com
SUMMARY:Pickleball & Open Gym
DESCRIPTION:Track Open 6 AM – 9 PM.\nPickleball/Open Gym from 6 AM – 3PM
URL:https://hoovermetcomplex.com/events/pickleball-open-gym/2025-09-11/
LOCATION:The Finley Center
CATEGORIES:Pickleball & Open Gym
END:VEVENT
BEGIN:VEVENT
DTSTART;TZID=America/Chicago:20250902T060000
DTEND;TZID=America/Chicago:20250902T150000
DTSTAMP:20260422T173629
CREATED:20250903T183105Z
LAST-MODIFIED:20250922T141406Z
UID:10000411-1756792800-1756825200@hoovermetcomplex.com
SUMMARY:Pickleball & Open Gym
DESCRIPTION:Track Open 6 AM – 9 PM.\nPickleball/Open Gym from 6 AM – 3PM
URL:https://hoovermetcomplex.com/events/pickleball-open-gym/2025-09-02/
LOCATION:The Finley Center
CATEGORIES:Pickleball & Open Gym
END:VEVENT
END:VCALENDAR