BEGIN:VCALENDAR
VERSION:2.0
PRODID:-//Hoover Met Complex - ECPv6.15.20//NONSGML v1.0//EN
CALSCALE:GREGORIAN
METHOD:PUBLISH
X-ORIGINAL-URL:https://hoovermetcomplex.com
X-WR-CALDESC:Events for Hoover Met Complex
REFRESH-INTERVAL;VALUE=DURATION:PT1H
X-Robots-Tag:noindex
X-PUBLISHED-TTL:PT1H
BEGIN:VTIMEZONE
TZID:America/Chicago
BEGIN:DAYLIGHT
TZOFFSETFROM:-0600
TZOFFSETTO:-0500
TZNAME:CDT
DTSTART:20240310T080000
END:DAYLIGHT
BEGIN:STANDARD
TZOFFSETFROM:-0500
TZOFFSETTO:-0600
TZNAME:CST
DTSTART:20241103T070000
END:STANDARD
BEGIN:DAYLIGHT
TZOFFSETFROM:-0600
TZOFFSETTO:-0500
TZNAME:CDT
DTSTART:20250309T080000
END:DAYLIGHT
BEGIN:STANDARD
TZOFFSETFROM:-0500
TZOFFSETTO:-0600
TZNAME:CST
DTSTART:20251102T070000
END:STANDARD
BEGIN:DAYLIGHT
TZOFFSETFROM:-0600
TZOFFSETTO:-0500
TZNAME:CDT
DTSTART:20260308T080000
END:DAYLIGHT
BEGIN:STANDARD
TZOFFSETFROM:-0500
TZOFFSETTO:-0600
TZNAME:CST
DTSTART:20261101T070000
END:STANDARD
END:VTIMEZONE
BEGIN:VEVENT
DTSTART;TZID=America/Chicago:20250929T060000
DTEND;TZID=America/Chicago:20250929T150000
DTSTAMP:20260422T204005
CREATED:20250903T183105Z
LAST-MODIFIED:20250922T141406Z
UID:10000416-1759125600-1759158000@hoovermetcomplex.com
SUMMARY:Pickleball & Open Gym
DESCRIPTION:Track Open 6 AM – 9 PM.\nPickleball/Open Gym from 6 AM – 3PM
URL:https://hoovermetcomplex.com/events/pickleball-open-gym/2025-09-29/
LOCATION:The Finley Center
CATEGORIES:Pickleball & Open Gym
END:VEVENT
BEGIN:VEVENT
DTSTART;TZID=America/Chicago:20250917T060000
DTEND;TZID=America/Chicago:20250917T150000
DTSTAMP:20260422T204005
CREATED:20250903T183105Z
LAST-MODIFIED:20250922T141406Z
UID:10000415-1758088800-1758121200@hoovermetcomplex.com
SUMMARY:Pickleball & Open Gym
DESCRIPTION:Track Open 6 AM – 9 PM.\nPickleball/Open Gym from 6 AM – 3PM
URL:https://hoovermetcomplex.com/events/pickleball-open-gym/2025-09-17/
LOCATION:The Finley Center
CATEGORIES:Pickleball & Open Gym
END:VEVENT
BEGIN:VEVENT
DTSTART;TZID=America/Chicago:20250916T060000
DTEND;TZID=America/Chicago:20250916T150000
DTSTAMP:20260422T204005
CREATED:20250903T183105Z
LAST-MODIFIED:20250922T141406Z
UID:10000414-1758002400-1758034800@hoovermetcomplex.com
SUMMARY:Pickleball & Open Gym
DESCRIPTION:Track Open 6 AM – 9 PM.\nPickleball/Open Gym from 6 AM – 3PM
URL:https://hoovermetcomplex.com/events/pickleball-open-gym/2025-09-16/
LOCATION:The Finley Center
CATEGORIES:Pickleball & Open Gym
END:VEVENT
BEGIN:VEVENT
DTSTART;TZID=America/Chicago:20250915T060000
DTEND;TZID=America/Chicago:20250915T150000
DTSTAMP:20260422T204005
CREATED:20250903T183105Z
LAST-MODIFIED:20250922T141406Z
UID:10000413-1757916000-1757948400@hoovermetcomplex.com
SUMMARY:Pickleball & Open Gym
DESCRIPTION:Track Open 6 AM – 9 PM.\nPickleball/Open Gym from 6 AM – 3PM
URL:https://hoovermetcomplex.com/events/pickleball-open-gym/2025-09-15/
LOCATION:The Finley Center
CATEGORIES:Pickleball & Open Gym
END:VEVENT
BEGIN:VEVENT
DTSTART;TZID=America/Chicago:20250911T060000
DTEND;TZID=America/Chicago:20250911T150000
DTSTAMP:20260422T204005
CREATED:20250903T183105Z
LAST-MODIFIED:20250922T141406Z
UID:10000412-1757570400-1757602800@hoovermetcomplex.com
SUMMARY:Pickleball & Open Gym
DESCRIPTION:Track Open 6 AM – 9 PM.\nPickleball/Open Gym from 6 AM – 3PM
URL:https://hoovermetcomplex.com/events/pickleball-open-gym/2025-09-11/
LOCATION:The Finley Center
CATEGORIES:Pickleball & Open Gym
END:VEVENT
BEGIN:VEVENT
DTSTART;TZID=America/Chicago:20250902T060000
DTEND;TZID=America/Chicago:20250902T150000
DTSTAMP:20260422T204005
CREATED:20250903T183105Z
LAST-MODIFIED:20250922T141406Z
UID:10000411-1756792800-1756825200@hoovermetcomplex.com
SUMMARY:Pickleball & Open Gym
DESCRIPTION:Track Open 6 AM – 9 PM.\nPickleball/Open Gym from 6 AM – 3PM
URL:https://hoovermetcomplex.com/events/pickleball-open-gym/2025-09-02/
LOCATION:The Finley Center
CATEGORIES:Pickleball & Open Gym
END:VEVENT
END:VCALENDAR