BEGIN:VCALENDAR
VERSION:2.0
PRODID:-//Hoover Met Complex - ECPv6.15.20//NONSGML v1.0//EN
CALSCALE:GREGORIAN
METHOD:PUBLISH
X-WR-CALNAME:Hoover Met Complex
X-ORIGINAL-URL:https://hoovermetcomplex.com
X-WR-CALDESC:Events for Hoover Met Complex
REFRESH-INTERVAL;VALUE=DURATION:PT1H
X-Robots-Tag:noindex
X-PUBLISHED-TTL:PT1H
BEGIN:VTIMEZONE
TZID:America/Chicago
BEGIN:DAYLIGHT
TZOFFSETFROM:-0600
TZOFFSETTO:-0500
TZNAME:CDT
DTSTART:20250309T080000
END:DAYLIGHT
BEGIN:STANDARD
TZOFFSETFROM:-0500
TZOFFSETTO:-0600
TZNAME:CST
DTSTART:20251102T070000
END:STANDARD
BEGIN:DAYLIGHT
TZOFFSETFROM:-0600
TZOFFSETTO:-0500
TZNAME:CDT
DTSTART:20260308T080000
END:DAYLIGHT
BEGIN:STANDARD
TZOFFSETFROM:-0500
TZOFFSETTO:-0600
TZNAME:CST
DTSTART:20261101T070000
END:STANDARD
BEGIN:DAYLIGHT
TZOFFSETFROM:-0600
TZOFFSETTO:-0500
TZNAME:CDT
DTSTART:20270314T080000
END:DAYLIGHT
BEGIN:STANDARD
TZOFFSETFROM:-0500
TZOFFSETTO:-0600
TZNAME:CST
DTSTART:20271107T070000
END:STANDARD
END:VTIMEZONE
BEGIN:VEVENT
DTSTART;TZID=America/Chicago:20260430T060000
DTEND;TZID=America/Chicago:20260430T210000
DTSTAMP:20260424T140757
CREATED:20251217T185836Z
LAST-MODIFIED:20260424T182806Z
UID:10000848-1777528800-1777582800@hoovermetcomplex.com
SUMMARY:Walking Track
DESCRIPTION:Walking Track Available
URL:https://hoovermetcomplex.com/events/walking-track-10/2026-04-30/
LOCATION:The Finley Center
CATEGORIES:Indoor Recreation,Walking Track
END:VEVENT
BEGIN:VEVENT
DTSTART;TZID=America/Chicago:20260501T080000
DTEND;TZID=America/Chicago:20260501T170000
DTSTAMP:20260424T140757
CREATED:20251217T185836Z
LAST-MODIFIED:20260424T182806Z
UID:10000849-1777622400-1777654800@hoovermetcomplex.com
SUMMARY:Walking Track
DESCRIPTION:Walking Track Available
URL:https://hoovermetcomplex.com/events/walking-track-10/2026-05-01/
LOCATION:The Finley Center
CATEGORIES:Indoor Recreation,Walking Track
END:VEVENT
BEGIN:VEVENT
DTSTART;TZID=America/Chicago:20260504T060000
DTEND;TZID=America/Chicago:20260504T210000
DTSTAMP:20260424T140757
CREATED:20251217T185836Z
LAST-MODIFIED:20260424T182806Z
UID:10000850-1777874400-1777928400@hoovermetcomplex.com
SUMMARY:Walking Track
DESCRIPTION:Walking Track Available
URL:https://hoovermetcomplex.com/events/walking-track-10/2026-05-04/
LOCATION:The Finley Center
CATEGORIES:Indoor Recreation,Walking Track
END:VEVENT
BEGIN:VEVENT
DTSTART;TZID=America/Chicago:20260505T060000
DTEND;TZID=America/Chicago:20260505T210000
DTSTAMP:20260424T140757
CREATED:20251217T185836Z
LAST-MODIFIED:20260424T182806Z
UID:10000851-1777960800-1778014800@hoovermetcomplex.com
SUMMARY:Walking Track
DESCRIPTION:Walking Track Available
URL:https://hoovermetcomplex.com/events/walking-track-10/2026-05-05/
LOCATION:The Finley Center
CATEGORIES:Indoor Recreation,Walking Track
END:VEVENT
BEGIN:VEVENT
DTSTART;TZID=America/Chicago:20260506T060000
DTEND;TZID=America/Chicago:20260506T210000
DTSTAMP:20260424T140757
CREATED:20251217T185836Z
LAST-MODIFIED:20260424T182806Z
UID:10000852-1778047200-1778101200@hoovermetcomplex.com
SUMMARY:Walking Track
DESCRIPTION:Walking Track Available
URL:https://hoovermetcomplex.com/events/walking-track-10/2026-05-06/
LOCATION:The Finley Center
CATEGORIES:Indoor Recreation,Walking Track
END:VEVENT
BEGIN:VEVENT
DTSTART;TZID=America/Chicago:20260507T060000
DTEND;TZID=America/Chicago:20260507T210000
DTSTAMP:20260424T140757
CREATED:20251217T185836Z
LAST-MODIFIED:20260424T182806Z
UID:10000853-1778133600-1778187600@hoovermetcomplex.com
SUMMARY:Walking Track
DESCRIPTION:Walking Track Available
URL:https://hoovermetcomplex.com/events/walking-track-10/2026-05-07/
LOCATION:The Finley Center
CATEGORIES:Indoor Recreation,Walking Track
END:VEVENT
BEGIN:VEVENT
DTSTART;TZID=America/Chicago:20260508T060000
DTEND;TZID=America/Chicago:20260508T210000
DTSTAMP:20260424T140757
CREATED:20251217T185836Z
LAST-MODIFIED:20260424T182806Z
UID:10000854-1778220000-1778274000@hoovermetcomplex.com
SUMMARY:Walking Track
DESCRIPTION:Walking Track Available
URL:https://hoovermetcomplex.com/events/walking-track-10/2026-05-08/
LOCATION:The Finley Center
CATEGORIES:Indoor Recreation,Walking Track
END:VEVENT
BEGIN:VEVENT
DTSTART;VALUE=DATE:20260509
DTEND;VALUE=DATE:20260601
DTSTAMP:20260424T140757
CREATED:20260424T183723Z
LAST-MODIFIED:20260424T183723Z
UID:10000859-1778284800-1780271999@hoovermetcomplex.com
SUMMARY:Indoor Rec. Closed
DESCRIPTION:No Indoor Recreation: No Pickleball\, Open Gym\, or Walking Track
URL:https://hoovermetcomplex.com/events/indoor-rec-closed-17/
LOCATION:Multi-Purpose Fields\, 1060 RV Trace\, Hoover\, AL\, 35244\, United States
END:VEVENT
END:VCALENDAR